BEGIN:VCALENDAR
VERSION:2.0
PRODID:-//Centrum van Actief Burgerschap - ECPv6.15.20//NONSGML v1.0//EN
CALSCALE:GREGORIAN
METHOD:PUBLISH
X-WR-CALNAME:Centrum van Actief Burgerschap
X-ORIGINAL-URL:https://centrumvanactiefburgerschap.nl
X-WR-CALDESC:Evenementen voor Centrum van Actief Burgerschap
REFRESH-INTERVAL;VALUE=DURATION:PT1H
X-Robots-Tag:noindex
X-PUBLISHED-TTL:PT1H
BEGIN:VTIMEZONE
TZID:Europe/Paris
BEGIN:DAYLIGHT
TZOFFSETFROM:+0100
TZOFFSETTO:+0200
TZNAME:CEST
DTSTART:20250330T010000
END:DAYLIGHT
BEGIN:STANDARD
TZOFFSETFROM:+0200
TZOFFSETTO:+0100
TZNAME:CET
DTSTART:20251026T010000
END:STANDARD
BEGIN:DAYLIGHT
TZOFFSETFROM:+0100
TZOFFSETTO:+0200
TZNAME:CEST
DTSTART:20260329T010000
END:DAYLIGHT
BEGIN:STANDARD
TZOFFSETFROM:+0200
TZOFFSETTO:+0100
TZNAME:CET
DTSTART:20261025T010000
END:STANDARD
BEGIN:DAYLIGHT
TZOFFSETFROM:+0100
TZOFFSETTO:+0200
TZNAME:CEST
DTSTART:20270328T010000
END:DAYLIGHT
BEGIN:STANDARD
TZOFFSETFROM:+0200
TZOFFSETTO:+0100
TZNAME:CET
DTSTART:20271031T010000
END:STANDARD
END:VTIMEZONE
BEGIN:VEVENT
DTSTART;TZID=Europe/Paris:20260603T100000
DTEND;TZID=Europe/Paris:20260603T170000
DTSTAMP:20260420T081931
CREATED:20260331T100335Z
LAST-MODIFIED:20260409T135322Z
UID:1666-1780480800-1780506000@centrumvanactiefburgerschap.nl
SUMMARY:Van Participatie naar Gemeenschapskracht
DESCRIPTION:Participatie betekent meedoen. Maar wie doet er met wie mee? Frans Manders is Raadslid en co-auteur van het manifest Van Participatie naar Gemeenschapskracht. Floor Ziegler is auteur van het boek Een Wereld van Gemeenschappen.  Zij nemen je mee in een andere blik en een andere manier van werken. Een indringende bijeenkomst voor participatie professionals die voorop lopen.
URL:https://centrumvanactiefburgerschap.nl/event/van-participatie-naar-gemeenschapskracht/
LOCATION:Centrum van Actief Burgerschap\, Amersfoortseweg 104\, Doorn\, NH\, 3941 EP\, Netherlands
CATEGORIES:Ambtelijk Vakmanschap,Gemeenschappen
ATTACH;FMTTYPE=image/jpeg:https://centrumvanactiefburgerschap.nl/wp-content/uploads/2026/03/20260324_132931-kopie.jpg
END:VEVENT
BEGIN:VEVENT
DTSTART;TZID=Europe/Paris:20260605T120000
DTEND;TZID=Europe/Paris:20260605T140000
DTSTAMP:20260420T081931
CREATED:20260330T123955Z
LAST-MODIFIED:20260414T180406Z
UID:1586-1780660800-1780668000@centrumvanactiefburgerschap.nl
SUMMARY:Lunch Gemeente Secretarissen
DESCRIPTION:Wat zitten er ontzettend veel ideeën en kennis en energie in de samenleving! En wat is het tegelijk een uitdaging om deze te realiseren\, ondersteunen en/of te benutten. \nAanbestedingswet\, gescheiden financiële regelingen\, maatschappelijke waarde die zich lastig financieel laat vertalen en ga zo maar door. \nHet begint met houding en gedrag van betrokkenen. Als gemeentebestuur kun je bijvoorbeeld niet alle ambtelijke capaciteit met eigen ambities vullen. Als ambtenaar kun je eerst ‘buiten’  gaan luisteren\, voordat je begint met een plan. Als gemeentesecretaris je invloed uitoefenen richting bestuur en ambtelijke organisatie. \nHet is lastig om hier structureel handen en voeten aan te geven. ¨Af en toe ‘geef ik een initiatief’ water\, maar structureel zie ik het nog niet veranderen.¨ \nJeroen Tomassen\, GS bij gemeente Teylingen\, Floor Ziegler en Teun Gautier en 9 collega gemeentesecretarissen zullen tijdens een inspiratielunch sparren over hoe wij een verschil kunnen maken en wat het centrum zou kunnen bieden aan secretarissen ter ondersteuning.
URL:https://centrumvanactiefburgerschap.nl/event/lunch-gemeente-secretarissen/
LOCATION:Centrum van Actief Burgerschap\, Amersfoortseweg 104\, Doorn\, NH\, 3941 EP\, Netherlands
CATEGORIES:Ambtelijk Vakmanschap,Gemeenschappen
ATTACH;FMTTYPE=image/jpeg:https://centrumvanactiefburgerschap.nl/wp-content/uploads/2026/03/20230913_162901-e1774876345591.jpg
END:VEVENT
BEGIN:VEVENT
DTSTART;TZID=Europe/Paris:20260616T100000
DTEND;TZID=Europe/Paris:20260616T170000
DTSTAMP:20260420T081931
CREATED:20260314T124745Z
LAST-MODIFIED:20260417T062235Z
UID:983-1781604000-1781629200@centrumvanactiefburgerschap.nl
SUMMARY:Basisleergang Een Wereld van Gemeenschappen
DESCRIPTION:In ieder dorp\, wijk\, buurt en stad zijn bewoners actief. In buurttuinen- en plekken\, met initiatieven\, verenigingen\, energie-cooperaties\, op alle maatschappelijke gebieden. Daar zijn gemeenschappen die willen en kunnen helpen bij het voorkomen en oplossen van maatschappelijke problemen.  \nVeel (gemeentelijke) organisaties zijn hiervan bewust en begrijpen de enorme mogelijkheden die ontstaan als ze beter zouden samenwerken met bewonersinitiatieven. Het verhoogt de kwaliteit van beleid\, versnelt de uitvoering\, vermindert de weerstand\, verhoogt het draagvlak en het vertrouwen. Maar hoe pak je dat nou aan\, wat zijn goede voorbeelden\, wat kan er in de weg staan en hoe ga je daar mee om? \nFloor Ziegler en Teun Gautier schreven het boek Een Wereld van Gemeenschappen. Zij hebben veel ervaring met bewonersinitiatieven en samenwerkingen met formele organisaties. Ze zijn de initiatiefnemers van het netwerk van de Huizen van Actief Burgerschap en het Centrum van Actief Burgerschap. \nSamen met mensen uit de praktijk nemen ze je in deze leergang van een dag mee in de Wereld van Gemeenschappen. Aan de hand van voorbeelden laten ze zien hoe je te werk kunt gaan. Maar je kunt ook je eigen casus mee brengen. In de groep nemen we die dan door en komen met creatieve oplossingen en doorbraken. \nDit is de eerste Basis Leergang in het Centrum voor een selecte groep en jij kunt er bij zijn. Schrijf je snel in en dompel jezelf\, op het prachtige landgoed\, onder in dit onderwerp dat overal hoog op de agenda´s staat. \n  \nProgramma\nBlok 1 – De reis: een wereld van gemeenschappen\nPresentatie\nIntroductie in de wereld van gemeenschappen\, verzorgd door Floor Ziegler en Teun Gautier. Een inspirerende verkenning van wat gemeenschappen zijn\, hoe zij functioneren en welke rol zij spelen in maatschappelijke transities. \nBlok 2 – Een bad van voorbeelden\nIn dit blok worden praktijkvoorbeelden gepresenteerd die inzicht geven in de potentie van gemeenschappen: \n\nSuccesvolle voorbeelden: waar samenwerking met gemeenschappen goed werkt en wat dit oplevert.\nMinder geslaagde voorbeelden: waar het misgaat\, waarom dit gebeurt en wat hiervan geleerd kan worden.\n\nDeze voorbeelden worden onderbouwd met cijfers\, feiten\, onderzoeken en praktijkervaringen. \nBlok 3 – Eigenaarschap\nDeelnemers ontwerpen hun eigen leerroute binnen de leergang.\nCentrale vraag: wat heb jij nodig om de transitie naar werken mét gemeenschappen te maken?\nDit blok richt zich op persoonlijke leerdoelen\, professionele ontwikkeling en het nemen van eigenaarschap. \nBlok 4 – De leefwereld\nIn dit blok staat de leefwereld van bewoners centraal: \n\nOmgaan met (boze of verongelijkte) bewoners\nEigenschappen en rol van kwartiermakers: hoe herken je ze en hoe werk je met hen samen?\nHet vinden en versterken van gemeenschappen in de eigen omgeving\nDomeinoverstijgend werken en het opbouwen van vertrouwen\n\nDaarnaast wordt verdiept wat bedoeld wordt met: begin bij wat er al is en niet vóór\, maar mét de samenleving werken. \nBlok 5 – De systeemwereld\nDit blok onderzoekt de spanning en verbinding tussen systeemwereld en leefwereld: \n\nDe verschuiving van participatie naar gemeenschapskracht\nOmgaan met collega’s die weerstand ervaren\nRuimte binnen regels\, beleid en organisatie\nHet belang van fysieke plekken\nSubsidies\, opdrachten en aanbestedingen\nUit je rol stappen en weer ‘mens’ worden\nRollen en verantwoordelijkheden\nLeiderschap in een wereld van gemeenschappen\nDe waarde van ongehoorzaamheid\nVertrouwen\, loslaten en eigenaarschap in de eigen praktijk\n\nBlok 6 – Drijfveren en ervaren\nVanuit persoonlijke drijfveren gaan deelnemers zelf actief aan de slag als actieve burger\, op Landgoed Zonheuvel of in de directe omgeving. Voorbeelden: \n\nFietsliefhebbers begeleiden kinderen bij het leren fietsen op het AZC in Leersum\nFinancieel onderlegde deelnemers ondersteunen initiatieven via het Huis van Actief Burgerschap in Zeist\nTuinliefhebbers werken met mensen met dementie in de moestuin van Zonheuvel\nPraktisch ingestelde deelnemers helpen jongeren bij het onderhouden van het landgoed en het bos\n\nErvaring en ontmoeting staan centraal. \nBlok 7 – Geraakt worden\nEen diepgaande ervaring in het Verbeeldingslab\, die deelnemers blijvend raakt en laat ervaren waarom samenwerken met gemeenschappen: \n\nslimmer\nsneller\neffectiever\ngoedkoper\nen vooral leuker is\n\nEen ervaring die blijvend perspectief en motivatie biedt. \nBlok 8 – Herinneren en doorgeven\nDe leergang wordt afgesloten met het achterlaten van een persoonlijke bijdrage op het Centrum of Landgoed:\neen les\, inzicht of boodschap voor toekomstige deelnemers. \nDaarnaast ontvangen deelnemers: \n\neen Actief Burger-figuurtje als blijvende herinnering\nhet boek Wereld van Gemeenschappen\neen praktisch stappenplan om met een concrete casus anders samen te werken met gemeenschappen\n\nTijdens een terugkomdag wordt gezamenlijk gereflecteerd op wat goed ging\, wat beter kon\, wat is geleerd en welke beweging in gang is gezet.
URL:https://centrumvanactiefburgerschap.nl/event/basisleergang-een-wereld-van-gemeenschappen/
LOCATION:Centrum van Actief Burgerschap\, Amersfoortseweg 104\, Doorn\, NH\, 3941 EP\, Netherlands
CATEGORIES:Gemeenschappen
ATTACH;FMTTYPE=image/jpeg:https://centrumvanactiefburgerschap.nl/wp-content/uploads/2026/03/20250924_112849-e1775047860646.jpg
END:VEVENT
BEGIN:VEVENT
DTSTART;TZID=Europe/Paris:20260713T100000
DTEND;TZID=Europe/Paris:20260717T170000
DTSTAMP:20260420T081931
CREATED:20260315T135141Z
LAST-MODIFIED:20260402T124314Z
UID:1020-1783936800-1784307600@centrumvanactiefburgerschap.nl
SUMMARY:Zomeratelier Centrum van Actief Burgerschap
DESCRIPTION:Deze zomer kun je als ambtenaar\, wethouder\, raadslid in het Gemeentehuis blijven werken of een of meer dagen op het landgoed Zonheuvel\, ondergedompeld in de beweging naar een nieuwe samenwerking tussen formele en informele partijen.  \nHet programma\, een proeverij van de Ateliers die in september gaan starten\, wordt binnenkort bekend gemaakt maar het worden drie volle dagen met lezingen\, bijeenkomsten en wandelen in het bos\, aan de laptop in de tuin. \n  \n  \n  \n  \n  \n  \n  \n  \n  \n  \n  \n  \n  \n  \n  \n 
URL:https://centrumvanactiefburgerschap.nl/event/zomeratelier/
LOCATION:Landgoed Zonheuvel
CATEGORIES:Ambtelijk Vakmanschap
ATTACH;FMTTYPE=image/jpeg:https://centrumvanactiefburgerschap.nl/wp-content/uploads/2026/03/20250925_101955.jpg
END:VEVENT
END:VCALENDAR