BEGIN:VCALENDAR
VERSION:2.0
PRODID:-//Centrum van Actief Burgerschap - ECPv6.15.20//NONSGML v1.0//EN
CALSCALE:GREGORIAN
METHOD:PUBLISH
X-WR-CALNAME:Centrum van Actief Burgerschap
X-ORIGINAL-URL:https://centrumvanactiefburgerschap.nl
X-WR-CALDESC:Evenementen voor Centrum van Actief Burgerschap
REFRESH-INTERVAL;VALUE=DURATION:PT1H
X-Robots-Tag:noindex
X-PUBLISHED-TTL:PT1H
BEGIN:VTIMEZONE
TZID:Europe/Paris
BEGIN:DAYLIGHT
TZOFFSETFROM:+0100
TZOFFSETTO:+0200
TZNAME:CEST
DTSTART:20250330T010000
END:DAYLIGHT
BEGIN:STANDARD
TZOFFSETFROM:+0200
TZOFFSETTO:+0100
TZNAME:CET
DTSTART:20251026T010000
END:STANDARD
BEGIN:DAYLIGHT
TZOFFSETFROM:+0100
TZOFFSETTO:+0200
TZNAME:CEST
DTSTART:20260329T010000
END:DAYLIGHT
BEGIN:STANDARD
TZOFFSETFROM:+0200
TZOFFSETTO:+0100
TZNAME:CET
DTSTART:20261025T010000
END:STANDARD
BEGIN:DAYLIGHT
TZOFFSETFROM:+0100
TZOFFSETTO:+0200
TZNAME:CEST
DTSTART:20270328T010000
END:DAYLIGHT
BEGIN:STANDARD
TZOFFSETFROM:+0200
TZOFFSETTO:+0100
TZNAME:CET
DTSTART:20271031T010000
END:STANDARD
END:VTIMEZONE
BEGIN:VEVENT
DTSTART;TZID=Europe/Paris:20260401T000000
DTEND;TZID=Europe/Paris:20260401T140000
DTSTAMP:20260420T030935
CREATED:20260314T051759Z
LAST-MODIFIED:20260401T194811Z
UID:866-1775001600-1775052000@centrumvanactiefburgerschap.nl
SUMMARY:Bijeenkomst Creatieve Ambtenaren
DESCRIPTION:¨Het kon niet maar ik heb het toch gedaan¨ \nWerken in formele organisaties is soms lastig. Het doorbreken van obstakels het handelen van de geest en minder vanuit de letter\, kijken hoe het toch kan: in iedere organisatie zitten mensen met deze houding. Juist de samenwerking met informele netwerken en bewonersinitiatieven kan deze groep helpen om tractie te maken\, doorbraken te realiseren. \nEn soms voelen deze ambtenaren zich best alleen en het ontmoeten van gelijkgestemden is enorm inspirerend en verrijkend. \nTijdens deze werklunch praten we over hoe het Centrum van Actief Burgerschap kan bijdragen aan het verstevigen van de positie van creatieven en soms ongehoorzame ambtenaren. We gaan samen een programma bedenken\, kijken hoe we onderling kunnen verbinden en kunnen samenwerken.
URL:https://centrumvanactiefburgerschap.nl/event/ander-ambtelijk-vakmanschap-in-een-wereld-van-gemeenschappen-3/
LOCATION:Landgoed Zonheuvel
CATEGORIES:Ambtelijk Vakmanschap,Gemeenschappen
ATTACH;FMTTYPE=image/jpeg:https://centrumvanactiefburgerschap.nl/wp-content/uploads/2026/03/20260210_150816.jpg
END:VEVENT
BEGIN:VEVENT
DTSTART;TZID=Europe/Paris:20260324T100000
DTEND;TZID=Europe/Paris:20260324T170000
DTSTAMP:20260420T030935
CREATED:20260315T134709Z
LAST-MODIFIED:20260401T200737Z
UID:1017-1774346400-1774371600@centrumvanactiefburgerschap.nl
SUMMARY:Bijeenkomst netwerk van Lokale Huizen van Actief Burgerschap
DESCRIPTION:Een sterk groeiend netwerk van Lokale Huizen van Actief Burgerschap en de sleutelfiguren die daar de drijvende krachten achter zijn\, ontmoet elkaar bij het Centrum van Actief Burgerschap. Om te praten\, te denken en te werken aan het opzetten van leergangen en programma waarmee het Centrum de plek kan worden waar de Wereld van Gemeenschappen kan worden voorgedaan en overgedragen.
URL:https://centrumvanactiefburgerschap.nl/event/ander-ambtelijk-vakmanschap-in-een-wereld-van-gemeenschappen/
LOCATION:Landgoed Zonheuvel
CATEGORIES:Gemeenschappen
ATTACH;FMTTYPE=image/png:https://centrumvanactiefburgerschap.nl/wp-content/uploads/2026/02/Homepage.png
END:VEVENT
END:VCALENDAR